BEGIN:VCALENDAR
VERSION:2.0
PRODID:-//Grva Technology - ECPv6.6.3//NONSGML v1.0//EN
CALSCALE:GREGORIAN
METHOD:PUBLISH
X-ORIGINAL-URL:https://grva-tech.co.tz
X-WR-CALDESC:Events for Grva Technology
REFRESH-INTERVAL;VALUE=DURATION:PT1H
X-Robots-Tag:noindex
X-PUBLISHED-TTL:PT1H
BEGIN:VTIMEZONE
TZID:UTC
BEGIN:STANDARD
TZOFFSETFROM:+0000
TZOFFSETTO:+0000
TZNAME:UTC
DTSTART:20240101T000000
END:STANDARD
END:VTIMEZONE
BEGIN:VEVENT
DTSTART;VALUE=DATE:20240805
DTEND;VALUE=DATE:20240810
DTSTAMP:20260421T105047
CREATED:20240711T065719Z
LAST-MODIFIED:20240711T065719Z
UID:16157-1722816000-1723247999@grva-tech.co.tz
SUMMARY:CISA (Certified Information Systems Auditor)
DESCRIPTION:Definition:\nA globally recognized certification for auditing\, controlling\, and ensuring the security of information systems. \nCore Areas: \n\nInformation System Auditing Process: Planning and executing audits.\nGovernance and Management of IT: Ensuring effective governance structures.\nInformation Systems Acquisition\, Development\, and Implementation: Ensuring systems are reliable and secure.\nInformation Systems Operations and Business Resilience: Ensuring continuous and secure operations.\nProtection of Information Assets: Safeguarding information assets.
URL:https://grva-tech.co.tz/training/cisa-certified-information-systems-auditor/
LOCATION:White Sands Resort\, Dar es Salaam\, Tanzania\, United Republic of
CATEGORIES:Cyber Security
ATTACH;FMTTYPE=image/jpeg:https://grva-tech.co.tz/wp-content/uploads/2024/07/DSC_4173-scaled.jpg
END:VEVENT
END:VCALENDAR