BEGIN:VCALENDAR
VERSION:2.0
PRODID:-//Grva Technology - ECPv6.6.3//NONSGML v1.0//EN
CALSCALE:GREGORIAN
METHOD:PUBLISH
X-WR-CALNAME:Grva Technology
X-ORIGINAL-URL:https://grva-tech.co.tz
X-WR-CALDESC:Events for Grva Technology
REFRESH-INTERVAL;VALUE=DURATION:PT1H
X-Robots-Tag:noindex
X-PUBLISHED-TTL:PT1H
BEGIN:VTIMEZONE
TZID:UTC
BEGIN:STANDARD
TZOFFSETFROM:+0000
TZOFFSETTO:+0000
TZNAME:UTC
DTSTART:20240101T000000
END:STANDARD
END:VTIMEZONE
BEGIN:VEVENT
DTSTART;VALUE=DATE:20240729
DTEND;VALUE=DATE:20240803
DTSTAMP:20260421T152833
CREATED:20240711T051515Z
LAST-MODIFIED:20240711T064148Z
UID:16129-1722211200-1722643199@grva-tech.co.tz
SUMMARY:ISO 9001 (Quality Management System) Training
DESCRIPTION:Definition:\nA standard that specifies requirements for a quality management system (QMS) to ensure consistent quality in products and services. \nPrinciples: \n\nCustomer Focus: Meeting customer needs and enhancing satisfaction.\nLeadership: Establishing unity of purpose and direction.\nEngagement of People: Involving employees at all levels.\nProcess Approach: Managing activities as processes.\nContinuous Improvement: Ongoing improvement of the QMS.\nEvidence-Based Decision Making: Using data to guide decisions.\nRelationship Management: Maintaining good relationships with stakeholders.
URL:https://grva-tech.co.tz/training/iso-9001-quality-management-system-training/
LOCATION:White Sands Resort\, Dar es Salaam\, Tanzania\, United Republic of
CATEGORIES:Cyber Security
ATTACH;FMTTYPE=image/jpeg:https://grva-tech.co.tz/wp-content/uploads/2024/07/189A9621-scaled.jpg
END:VEVENT
END:VCALENDAR