BEGIN:VCALENDAR
VERSION:2.0
PRODID:-//Grva Technology - ECPv6.6.3//NONSGML v1.0//EN
CALSCALE:GREGORIAN
METHOD:PUBLISH
X-ORIGINAL-URL:https://grva-tech.co.tz
X-WR-CALDESC:Events for Grva Technology
REFRESH-INTERVAL;VALUE=DURATION:PT1H
X-Robots-Tag:noindex
X-PUBLISHED-TTL:PT1H
BEGIN:VTIMEZONE
TZID:UTC
BEGIN:STANDARD
TZOFFSETFROM:+0000
TZOFFSETTO:+0000
TZNAME:UTC
DTSTART:20240101T000000
END:STANDARD
END:VTIMEZONE
BEGIN:VEVENT
DTSTART;VALUE=DATE:20240911
DTEND;VALUE=DATE:20240914
DTSTAMP:20260421T183324
CREATED:20240711T072335Z
LAST-MODIFIED:20240711T072704Z
UID:16221-1726012800-1726271999@grva-tech.co.tz
SUMMARY:IT Leadership Ladder
DESCRIPTION:Definition:\nA framework for developing and progressing IT professionals through various leadership roles. \nLevels: \n\nEntry-Level IT Roles: Basic technical support and administrative tasks.\nMid-Level IT Roles: Managing small teams\, projects\, and specialized areas.\nSenior IT Roles: Strategic planning\, high-level management\, and decision-making.\nExecutive IT Roles: C-level positions\, driving the overall IT strategy and innovation.
URL:https://grva-tech.co.tz/training/it-leadership-ladder/
LOCATION:Mount Meru Hotel\, Arusha\, Tanzania\, United Republic of
CATEGORIES:Cyber Security
ATTACH;FMTTYPE=image/jpeg:https://grva-tech.co.tz/wp-content/uploads/2024/07/DSC_4307-scaled.jpg
END:VEVENT
END:VCALENDAR